BEGIN:VCALENDAR
VERSION:2.0
PRODID:-//Assemblies of God, Jamaica - ECPv6.15.17.1//NONSGML v1.0//EN
CALSCALE:GREGORIAN
METHOD:PUBLISH
X-WR-CALNAME:Assemblies of God, Jamaica
X-ORIGINAL-URL:https://www.aogjamaica.com
X-WR-CALDESC:Events for Assemblies of God, Jamaica
REFRESH-INTERVAL;VALUE=DURATION:PT1H
X-Robots-Tag:noindex
X-PUBLISHED-TTL:PT1H
BEGIN:VTIMEZONE
TZID:America/New_York
BEGIN:DAYLIGHT
TZOFFSETFROM:-0500
TZOFFSETTO:-0400
TZNAME:EDT
DTSTART:20240310T070000
END:DAYLIGHT
BEGIN:STANDARD
TZOFFSETFROM:-0400
TZOFFSETTO:-0500
TZNAME:EST
DTSTART:20241103T060000
END:STANDARD
BEGIN:DAYLIGHT
TZOFFSETFROM:-0500
TZOFFSETTO:-0400
TZNAME:EDT
DTSTART:20250309T070000
END:DAYLIGHT
BEGIN:STANDARD
TZOFFSETFROM:-0400
TZOFFSETTO:-0500
TZNAME:EST
DTSTART:20251102T060000
END:STANDARD
BEGIN:DAYLIGHT
TZOFFSETFROM:-0500
TZOFFSETTO:-0400
TZNAME:EDT
DTSTART:20260308T070000
END:DAYLIGHT
BEGIN:STANDARD
TZOFFSETFROM:-0400
TZOFFSETTO:-0500
TZNAME:EST
DTSTART:20261101T060000
END:STANDARD
END:VTIMEZONE
BEGIN:VEVENT
DTSTART;VALUE=DATE:20251101
DTEND;VALUE=DATE:20251201
DTSTAMP:20260420T003511
CREATED:20250818T123929Z
LAST-MODIFIED:20250818T123929Z
UID:2428-1761955200-1764547199@www.aogjamaica.com
SUMMARY:Sunday School Parents’ and Teachers’ Month
DESCRIPTION:
URL:https://www.aogjamaica.com/event/sunday-school-parents-and-teachers-month/
END:VEVENT
BEGIN:VEVENT
DTSTART;TZID=America/New_York:20251128T080000
DTEND;TZID=America/New_York:20251128T170000
DTSTAMP:20260420T003511
CREATED:20250818T124344Z
LAST-MODIFIED:20250818T124344Z
UID:2438-1764316800-1764349200@www.aogjamaica.com
SUMMARY:CAs Prayer and Thanksgiving
DESCRIPTION:
URL:https://www.aogjamaica.com/event/cas-prayer-and-thanksgiving/
END:VEVENT
END:VCALENDAR