BEGIN:VCALENDAR
VERSION:2.0
PRODID:-//Assemblies of God, Jamaica - ECPv6.15.17.1//NONSGML v1.0//EN
CALSCALE:GREGORIAN
METHOD:PUBLISH
X-ORIGINAL-URL:https://www.aogjamaica.com
X-WR-CALDESC:Events for Assemblies of God, Jamaica
REFRESH-INTERVAL;VALUE=DURATION:PT1H
X-Robots-Tag:noindex
X-PUBLISHED-TTL:PT1H
BEGIN:VTIMEZONE
TZID:America/New_York
BEGIN:DAYLIGHT
TZOFFSETFROM:-0500
TZOFFSETTO:-0400
TZNAME:EDT
DTSTART:20240310T070000
END:DAYLIGHT
BEGIN:STANDARD
TZOFFSETFROM:-0400
TZOFFSETTO:-0500
TZNAME:EST
DTSTART:20241103T060000
END:STANDARD
BEGIN:DAYLIGHT
TZOFFSETFROM:-0500
TZOFFSETTO:-0400
TZNAME:EDT
DTSTART:20250309T070000
END:DAYLIGHT
BEGIN:STANDARD
TZOFFSETFROM:-0400
TZOFFSETTO:-0500
TZNAME:EST
DTSTART:20251102T060000
END:STANDARD
BEGIN:DAYLIGHT
TZOFFSETFROM:-0500
TZOFFSETTO:-0400
TZNAME:EDT
DTSTART:20260308T070000
END:DAYLIGHT
BEGIN:STANDARD
TZOFFSETFROM:-0400
TZOFFSETTO:-0500
TZNAME:EST
DTSTART:20261101T060000
END:STANDARD
END:VTIMEZONE
BEGIN:VEVENT
DTSTART;VALUE=DATE:20251201
DTEND;VALUE=DATE:20260101
DTSTAMP:20260419T213458
CREATED:20250818T124604Z
LAST-MODIFIED:20250818T124604Z
UID:2442-1764547200-1767225599@www.aogjamaica.com
SUMMARY:Pastors’ and Families’ Appreciation Month
DESCRIPTION:
URL:https://www.aogjamaica.com/event/pastors-and-families-appreciation-month/
END:VEVENT
BEGIN:VEVENT
DTSTART;TZID=America/New_York:20251213T080000
DTEND;TZID=America/New_York:20251213T170000
DTSTAMP:20260419T213458
CREATED:20250818T125029Z
LAST-MODIFIED:20250818T125029Z
UID:2446-1765612800-1765645200@www.aogjamaica.com
SUMMARY:Men’s Ministries Celebrating Our Men’s President
DESCRIPTION:
URL:https://www.aogjamaica.com/event/mens-ministries-celebrating-our-mens-president/
END:VEVENT
END:VCALENDAR