BEGIN:VCALENDAR
VERSION:2.0
PRODID:-//Assemblies of God, Jamaica - ECPv6.15.17.1//NONSGML v1.0//EN
CALSCALE:GREGORIAN
METHOD:PUBLISH
X-WR-CALNAME:Assemblies of God, Jamaica
X-ORIGINAL-URL:https://www.aogjamaica.com
X-WR-CALDESC:Events for Assemblies of God, Jamaica
REFRESH-INTERVAL;VALUE=DURATION:PT1H
X-Robots-Tag:noindex
X-PUBLISHED-TTL:PT1H
BEGIN:VTIMEZONE
TZID:America/New_York
BEGIN:DAYLIGHT
TZOFFSETFROM:-0500
TZOFFSETTO:-0400
TZNAME:EDT
DTSTART:20250309T070000
END:DAYLIGHT
BEGIN:STANDARD
TZOFFSETFROM:-0400
TZOFFSETTO:-0500
TZNAME:EST
DTSTART:20251102T060000
END:STANDARD
BEGIN:DAYLIGHT
TZOFFSETFROM:-0500
TZOFFSETTO:-0400
TZNAME:EDT
DTSTART:20260308T070000
END:DAYLIGHT
BEGIN:STANDARD
TZOFFSETFROM:-0400
TZOFFSETTO:-0500
TZNAME:EST
DTSTART:20261101T060000
END:STANDARD
BEGIN:DAYLIGHT
TZOFFSETFROM:-0500
TZOFFSETTO:-0400
TZNAME:EDT
DTSTART:20270314T070000
END:DAYLIGHT
BEGIN:STANDARD
TZOFFSETFROM:-0400
TZOFFSETTO:-0500
TZNAME:EST
DTSTART:20271107T060000
END:STANDARD
END:VTIMEZONE
BEGIN:VEVENT
DTSTART;TZID=America/New_York:20260130T080000
DTEND;TZID=America/New_York:20260201T170000
DTSTAMP:20260419T194758
CREATED:20260112T193945Z
LAST-MODIFIED:20260112T193945Z
UID:2516-1769760000-1769965200@www.aogjamaica.com
SUMMARY:CAs Youth Missions - Cornwall
DESCRIPTION:
URL:https://www.aogjamaica.com/event/cas-youth-missions-cornwall-3/
END:VEVENT
BEGIN:VEVENT
DTSTART;TZID=America/New_York:20260131T080000
DTEND;TZID=America/New_York:20260131T170000
DTSTAMP:20260419T194758
CREATED:20260112T193921Z
LAST-MODIFIED:20260112T193921Z
UID:2514-1769846400-1769878800@www.aogjamaica.com
SUMMARY:Sunday School Dept Regional- Vision Casting (Online)
DESCRIPTION:
URL:https://www.aogjamaica.com/event/sunday-school-dept-regional-vision-casting-online/
END:VEVENT
END:VCALENDAR