BEGIN:VCALENDAR
VERSION:2.0
PRODID:-//Assemblies of God, Jamaica - ECPv6.15.17.1//NONSGML v1.0//EN
CALSCALE:GREGORIAN
METHOD:PUBLISH
X-ORIGINAL-URL:https://www.aogjamaica.com
X-WR-CALDESC:Events for Assemblies of God, Jamaica
REFRESH-INTERVAL;VALUE=DURATION:PT1H
X-Robots-Tag:noindex
X-PUBLISHED-TTL:PT1H
BEGIN:VTIMEZONE
TZID:America/New_York
BEGIN:DAYLIGHT
TZOFFSETFROM:-0500
TZOFFSETTO:-0400
TZNAME:EDT
DTSTART:20250309T070000
END:DAYLIGHT
BEGIN:STANDARD
TZOFFSETFROM:-0400
TZOFFSETTO:-0500
TZNAME:EST
DTSTART:20251102T060000
END:STANDARD
BEGIN:DAYLIGHT
TZOFFSETFROM:-0500
TZOFFSETTO:-0400
TZNAME:EDT
DTSTART:20260308T070000
END:DAYLIGHT
BEGIN:STANDARD
TZOFFSETFROM:-0400
TZOFFSETTO:-0500
TZNAME:EST
DTSTART:20261101T060000
END:STANDARD
BEGIN:DAYLIGHT
TZOFFSETFROM:-0500
TZOFFSETTO:-0400
TZNAME:EDT
DTSTART:20270314T070000
END:DAYLIGHT
BEGIN:STANDARD
TZOFFSETFROM:-0400
TZOFFSETTO:-0500
TZNAME:EST
DTSTART:20271107T060000
END:STANDARD
END:VTIMEZONE
BEGIN:VEVENT
DTSTART;TZID=America/New_York:20260401T080000
DTEND;TZID=America/New_York:20260430T170000
DTSTAMP:20260419T141005
CREATED:20260312T233913Z
LAST-MODIFIED:20260312T233913Z
UID:2565-1775030400-1777568400@www.aogjamaica.com
SUMMARY:Sunday School Growth Campaign Month
DESCRIPTION:
URL:https://www.aogjamaica.com/event/sunday-school-growth-campaign-month/
END:VEVENT
BEGIN:VEVENT
DTSTART;TZID=America/New_York:20260424T210000
DTEND;TZID=America/New_York:20260425T050000
DTSTAMP:20260419T141005
CREATED:20260312T234153Z
LAST-MODIFIED:20260312T234153Z
UID:2573-1777064400-1777093200@www.aogjamaica.com
SUMMARY:National Prayer Network (all night)
DESCRIPTION:
URL:https://www.aogjamaica.com/event/national-prayer-network-all-night/
END:VEVENT
END:VCALENDAR