BEGIN:VCALENDAR
VERSION:2.0
PRODID:-//Assemblies of God, Jamaica - ECPv6.15.17.1//NONSGML v1.0//EN
CALSCALE:GREGORIAN
METHOD:PUBLISH
X-ORIGINAL-URL:https://www.aogjamaica.com
X-WR-CALDESC:Events for Assemblies of God, Jamaica
REFRESH-INTERVAL;VALUE=DURATION:PT1H
X-Robots-Tag:noindex
X-PUBLISHED-TTL:PT1H
BEGIN:VTIMEZONE
TZID:America/New_York
BEGIN:DAYLIGHT
TZOFFSETFROM:-0500
TZOFFSETTO:-0400
TZNAME:EDT
DTSTART:20230312T070000
END:DAYLIGHT
BEGIN:STANDARD
TZOFFSETFROM:-0400
TZOFFSETTO:-0500
TZNAME:EST
DTSTART:20231105T060000
END:STANDARD
BEGIN:DAYLIGHT
TZOFFSETFROM:-0500
TZOFFSETTO:-0400
TZNAME:EDT
DTSTART:20240310T070000
END:DAYLIGHT
BEGIN:STANDARD
TZOFFSETFROM:-0400
TZOFFSETTO:-0500
TZNAME:EST
DTSTART:20241103T060000
END:STANDARD
BEGIN:DAYLIGHT
TZOFFSETFROM:-0500
TZOFFSETTO:-0400
TZNAME:EDT
DTSTART:20250309T070000
END:DAYLIGHT
BEGIN:STANDARD
TZOFFSETFROM:-0400
TZOFFSETTO:-0500
TZNAME:EST
DTSTART:20251102T060000
END:STANDARD
END:VTIMEZONE
BEGIN:VEVENT
DTSTART;VALUE=DATE:20240102
DTEND;VALUE=DATE:20240106
DTSTAMP:20260421T084320
CREATED:20231208T210314Z
LAST-MODIFIED:20231208T210314Z
UID:2179-1704153600-1704499199@www.aogjamaica.com
SUMMARY:Week of Fasting and Prayer
DESCRIPTION:
URL:https://www.aogjamaica.com/event/week-of-fasting-and-prayer/
END:VEVENT
BEGIN:VEVENT
DTSTART;VALUE=DATE:20240104
DTEND;VALUE=DATE:20240105
DTSTAMP:20260421T084320
CREATED:20231208T210416Z
LAST-MODIFIED:20231208T210648Z
UID:2181-1704326400-1704412799@www.aogjamaica.com
SUMMARY:AG Day of Fasting and Prayer - County
DESCRIPTION:
URL:https://www.aogjamaica.com/event/ag-day-of-fasting-and-prayer-county/
END:VEVENT
BEGIN:VEVENT
DTSTART;VALUE=DATE:20240107
DTEND;VALUE=DATE:20240108
DTSTAMP:20260421T084320
CREATED:20231208T210730Z
LAST-MODIFIED:20231208T210730Z
UID:2185-1704585600-1704671999@www.aogjamaica.com
SUMMARY:Regional Prayer of Thanksgiving (Churches)
DESCRIPTION:
URL:https://www.aogjamaica.com/event/regional-prayer-of-thanksgiving-churches/
END:VEVENT
BEGIN:VEVENT
DTSTART;VALUE=DATE:20240114
DTEND;VALUE=DATE:20240129
DTSTAMP:20260421T084320
CREATED:20231208T210832Z
LAST-MODIFIED:20231208T210832Z
UID:2187-1705190400-1706486399@www.aogjamaica.com
SUMMARY:Regional Crusade - Arlington\, St. Elizabeth
DESCRIPTION:
URL:https://www.aogjamaica.com/event/regional-crusade-arlington-st-elizabeth/
END:VEVENT
BEGIN:VEVENT
DTSTART;VALUE=DATE:20240122
DTEND;VALUE=DATE:20240123
DTSTAMP:20260421T084320
CREATED:20231208T211238Z
LAST-MODIFIED:20231208T211238Z
UID:2191-1705881600-1705967999@www.aogjamaica.com
SUMMARY:Bible College - Reopen
DESCRIPTION:
URL:https://www.aogjamaica.com/event/bible-college-reopen/
END:VEVENT
BEGIN:VEVENT
DTSTART;VALUE=DATE:20240122
DTEND;VALUE=DATE:20240126
DTSTAMP:20260421T084320
CREATED:20231208T211317Z
LAST-MODIFIED:20231208T211317Z
UID:2193-1705881600-1706227199@www.aogjamaica.com
SUMMARY:CFAGE Conference
DESCRIPTION:
URL:https://www.aogjamaica.com/event/cfage-conference/
END:VEVENT
BEGIN:VEVENT
DTSTART;VALUE=DATE:20240126
DTEND;VALUE=DATE:20240129
DTSTAMP:20260421T084320
CREATED:20231208T211349Z
LAST-MODIFIED:20231208T211349Z
UID:2195-1706227200-1706486399@www.aogjamaica.com
SUMMARY:CAs Youth Missions - Cornwall
DESCRIPTION:
URL:https://www.aogjamaica.com/event/cas-youth-missions-cornwall/
END:VEVENT
BEGIN:VEVENT
DTSTART;VALUE=DATE:20240127
DTEND;VALUE=DATE:20240128
DTSTAMP:20260421T084320
CREATED:20231208T211416Z
LAST-MODIFIED:20231208T211416Z
UID:2197-1706313600-1706399999@www.aogjamaica.com
SUMMARY:Women’s Ministry National Consultation
DESCRIPTION:
URL:https://www.aogjamaica.com/event/womens-ministry-national-consultation/
END:VEVENT
BEGIN:VEVENT
DTSTART;TZID=America/New_York:20240131T080000
DTEND;TZID=America/New_York:20240131T170000
DTSTAMP:20260421T084320
CREATED:20231208T211450Z
LAST-MODIFIED:20231208T211508Z
UID:2199-1706688000-1706720400@www.aogjamaica.com
SUMMARY:Submission of A and B Forms
DESCRIPTION:
URL:https://www.aogjamaica.com/event/submission-of-a-b-forms/
END:VEVENT
END:VCALENDAR