BEGIN:VCALENDAR
VERSION:2.0
PRODID:-//Assemblies of God, Jamaica - ECPv6.15.17.1//NONSGML v1.0//EN
CALSCALE:GREGORIAN
METHOD:PUBLISH
X-WR-CALNAME:Assemblies of God, Jamaica
X-ORIGINAL-URL:https://www.aogjamaica.com
X-WR-CALDESC:Events for Assemblies of God, Jamaica
REFRESH-INTERVAL;VALUE=DURATION:PT1H
X-Robots-Tag:noindex
X-PUBLISHED-TTL:PT1H
BEGIN:VTIMEZONE
TZID:America/New_York
BEGIN:DAYLIGHT
TZOFFSETFROM:-0500
TZOFFSETTO:-0400
TZNAME:EDT
DTSTART:20240310T070000
END:DAYLIGHT
BEGIN:STANDARD
TZOFFSETFROM:-0400
TZOFFSETTO:-0500
TZNAME:EST
DTSTART:20241103T060000
END:STANDARD
BEGIN:DAYLIGHT
TZOFFSETFROM:-0500
TZOFFSETTO:-0400
TZNAME:EDT
DTSTART:20250309T070000
END:DAYLIGHT
BEGIN:STANDARD
TZOFFSETFROM:-0400
TZOFFSETTO:-0500
TZNAME:EST
DTSTART:20251102T060000
END:STANDARD
BEGIN:DAYLIGHT
TZOFFSETFROM:-0500
TZOFFSETTO:-0400
TZNAME:EDT
DTSTART:20260308T070000
END:DAYLIGHT
BEGIN:STANDARD
TZOFFSETFROM:-0400
TZOFFSETTO:-0500
TZNAME:EST
DTSTART:20261101T060000
END:STANDARD
END:VTIMEZONE
BEGIN:VEVENT
DTSTART;VALUE=DATE:20250105
DTEND;VALUE=DATE:20250113
DTSTAMP:20260420T151623
CREATED:20250107T002752Z
LAST-MODIFIED:20250107T002752Z
UID:2255-1736035200-1736726399@www.aogjamaica.com
SUMMARY:Week of Prayer and Fasting
DESCRIPTION:
URL:https://www.aogjamaica.com/event/week-of-prayer-and-fasting/
END:VEVENT
BEGIN:VEVENT
DTSTART;VALUE=DATE:20250109
DTEND;VALUE=DATE:20250110
DTSTAMP:20260420T151623
CREATED:20250107T002935Z
LAST-MODIFIED:20250107T002935Z
UID:2257-1736380800-1736467199@www.aogjamaica.com
SUMMARY:AG Day of Fasting and Prayer - County
DESCRIPTION:
URL:https://www.aogjamaica.com/event/ag-day-of-fasting-and-prayer-county-2/
END:VEVENT
BEGIN:VEVENT
DTSTART;VALUE=DATE:20250111
DTEND;VALUE=DATE:20250112
DTSTAMP:20260420T151623
CREATED:20250107T003006Z
LAST-MODIFIED:20250107T003006Z
UID:2259-1736553600-1736639999@www.aogjamaica.com
SUMMARY:Sunday School Prayer online
DESCRIPTION:
URL:https://www.aogjamaica.com/event/sunday-school-prayer-online/
END:VEVENT
BEGIN:VEVENT
DTSTART;VALUE=DATE:20250112
DTEND;VALUE=DATE:20250113
DTSTAMP:20260420T151623
CREATED:20250107T003044Z
LAST-MODIFIED:20250107T003044Z
UID:2264-1736640000-1736726399@www.aogjamaica.com
SUMMARY:Regional Prayer of Thanksgiving
DESCRIPTION:
URL:https://www.aogjamaica.com/event/regional-prayer-of-thanksgiving/
END:VEVENT
BEGIN:VEVENT
DTSTART;VALUE=DATE:20250116
DTEND;VALUE=DATE:20250117
DTSTAMP:20260420T151623
CREATED:20250107T003103Z
LAST-MODIFIED:20250107T003103Z
UID:2263-1736985600-1737071999@www.aogjamaica.com
SUMMARY:National Presbytery Meeting
DESCRIPTION:
URL:https://www.aogjamaica.com/event/national-presbytery-meeting/
END:VEVENT
BEGIN:VEVENT
DTSTART;VALUE=DATE:20250118
DTEND;VALUE=DATE:20250119
DTSTAMP:20260420T151623
CREATED:20250107T003159Z
LAST-MODIFIED:20250107T003159Z
UID:2267-1737158400-1737244799@www.aogjamaica.com
SUMMARY:Women’s Ministries Consultation
DESCRIPTION:
URL:https://www.aogjamaica.com/event/womens-ministries-consultation/
END:VEVENT
BEGIN:VEVENT
DTSTART;VALUE=DATE:20250123
DTEND;VALUE=DATE:20250124
DTSTAMP:20260420T151623
CREATED:20250107T003213Z
LAST-MODIFIED:20250107T003213Z
UID:2268-1737590400-1737676799@www.aogjamaica.com
SUMMARY:Pastors Training (Virtual)
DESCRIPTION:
URL:https://www.aogjamaica.com/event/pastors-training-virtual/
END:VEVENT
BEGIN:VEVENT
DTSTART;VALUE=DATE:20250125
DTEND;VALUE=DATE:20250126
DTSTAMP:20260420T151623
CREATED:20250107T003236Z
LAST-MODIFIED:20250107T003236Z
UID:2271-1737763200-1737849599@www.aogjamaica.com
SUMMARY:Men’s Ministries Executive Meeting
DESCRIPTION:
URL:https://www.aogjamaica.com/event/mens-ministries-executive-meeting/
END:VEVENT
BEGIN:VEVENT
DTSTART;VALUE=DATE:20250127
DTEND;VALUE=DATE:20250128
DTSTAMP:20260420T151623
CREATED:20250107T003250Z
LAST-MODIFIED:20250107T003250Z
UID:2273-1737936000-1738022399@www.aogjamaica.com
SUMMARY:Assemblies of God Bible College (AGBC) reopens
DESCRIPTION:
URL:https://www.aogjamaica.com/event/assemblies-of-god-bible-college-agbc-reopens/
END:VEVENT
BEGIN:VEVENT
DTSTART;VALUE=DATE:20250131
DTEND;VALUE=DATE:20250203
DTSTAMP:20260420T151623
CREATED:20250107T003317Z
LAST-MODIFIED:20250107T003317Z
UID:2275-1738281600-1738540799@www.aogjamaica.com
SUMMARY:CAs Youth Missions - Cornwall
DESCRIPTION:
URL:https://www.aogjamaica.com/event/cas-youth-missions-cornwall-2/
END:VEVENT
END:VCALENDAR