BEGIN:VCALENDAR
VERSION:2.0
PRODID:-//Assemblies of God, Jamaica - ECPv6.15.17.1//NONSGML v1.0//EN
CALSCALE:GREGORIAN
METHOD:PUBLISH
X-WR-CALNAME:Assemblies of God, Jamaica
X-ORIGINAL-URL:https://www.aogjamaica.com
X-WR-CALDESC:Events for Assemblies of God, Jamaica
REFRESH-INTERVAL;VALUE=DURATION:PT1H
X-Robots-Tag:noindex
X-PUBLISHED-TTL:PT1H
BEGIN:VTIMEZONE
TZID:America/New_York
BEGIN:DAYLIGHT
TZOFFSETFROM:-0500
TZOFFSETTO:-0400
TZNAME:EDT
DTSTART:20250309T070000
END:DAYLIGHT
BEGIN:STANDARD
TZOFFSETFROM:-0400
TZOFFSETTO:-0500
TZNAME:EST
DTSTART:20251102T060000
END:STANDARD
BEGIN:DAYLIGHT
TZOFFSETFROM:-0500
TZOFFSETTO:-0400
TZNAME:EDT
DTSTART:20260308T070000
END:DAYLIGHT
BEGIN:STANDARD
TZOFFSETFROM:-0400
TZOFFSETTO:-0500
TZNAME:EST
DTSTART:20261101T060000
END:STANDARD
BEGIN:DAYLIGHT
TZOFFSETFROM:-0500
TZOFFSETTO:-0400
TZNAME:EDT
DTSTART:20270314T070000
END:DAYLIGHT
BEGIN:STANDARD
TZOFFSETFROM:-0400
TZOFFSETTO:-0500
TZNAME:EST
DTSTART:20271107T060000
END:STANDARD
END:VTIMEZONE
BEGIN:VEVENT
DTSTART;TZID=America/New_York:20260305T190000
DTEND;TZID=America/New_York:20260307T200000
DTSTAMP:20260419T140821
CREATED:20260312T233605Z
LAST-MODIFIED:20260312T233605Z
UID:2553-1772737200-1772913600@www.aogjamaica.com
SUMMARY:Men’s Ministries Week of Prayer
DESCRIPTION:
URL:https://www.aogjamaica.com/event/mens-ministries-week-of-prayer/
END:VEVENT
BEGIN:VEVENT
DTSTART;TZID=America/New_York:20260314T080000
DTEND;TZID=America/New_York:20260321T170000
DTSTAMP:20260419T140821
CREATED:20260312T233632Z
LAST-MODIFIED:20260312T233632Z
UID:2555-1773475200-1774112400@www.aogjamaica.com
SUMMARY:Overseas Mission- Grand Cayman
DESCRIPTION:
URL:https://www.aogjamaica.com/event/overseas-mission-grand-cayman/
END:VEVENT
BEGIN:VEVENT
DTSTART;TZID=America/New_York:20260320T080000
DTEND;TZID=America/New_York:20260320T170000
DTSTAMP:20260419T140821
CREATED:20260312T233700Z
LAST-MODIFIED:20260312T234428Z
UID:2557-1773993600-1774026000@www.aogjamaica.com
SUMMARY:Examination for Credential Applicants
DESCRIPTION:
URL:https://www.aogjamaica.com/event/examination-for-credential-applicants-2/
END:VEVENT
BEGIN:VEVENT
DTSTART;TZID=America/New_York:20260321T190000
DTEND;TZID=America/New_York:20260321T210000
DTSTAMP:20260419T140821
CREATED:20260312T233736Z
LAST-MODIFIED:20260312T233736Z
UID:2559-1774119600-1774126800@www.aogjamaica.com
SUMMARY:MM – Webinar- Mentorship in Action
DESCRIPTION:
URL:https://www.aogjamaica.com/event/mm-webinar-mentorship-in-action/
END:VEVENT
BEGIN:VEVENT
DTSTART;TZID=America/New_York:20260322T183000
DTEND;TZID=America/New_York:20260322T210000
DTSTAMP:20260419T140821
CREATED:20260312T233808Z
LAST-MODIFIED:20260312T233808Z
UID:2561-1774204200-1774213200@www.aogjamaica.com
SUMMARY:Pastors’ Development Seminar (Online)
DESCRIPTION:
URL:https://www.aogjamaica.com/event/pastors-development-seminar-online/
END:VEVENT
BEGIN:VEVENT
DTSTART;VALUE=DATE:20260328
DTEND;VALUE=DATE:20260329
DTSTAMP:20260419T140821
CREATED:20260312T233843Z
LAST-MODIFIED:20260312T233843Z
UID:2563-1774656000-1774742399@www.aogjamaica.com
SUMMARY:Sunday School – Pedagogy Workshop 1 (County)
DESCRIPTION:
URL:https://www.aogjamaica.com/event/sunday-school-pedagogy-workshop-1-county/
END:VEVENT
END:VCALENDAR